BEGIN:VCALENDAR
VERSION:2.0
PRODID:-//eventon.com NONSGML v1.0//EN
BEGIN:VEVENT
UID:69ec084a958e6
DTSTAMP:20260425T021818
DTSTART:20191208T180000Z
DTEND:20191208T235000Z
TZID:UTC
LOCATION:Kleiner Konzertsaal Gasteig\,  Rosenheimer Straße 5 81667 München
SUMMARY:Konzert zum 200. Geburtstag des Dichters Jakow Polonskij
DESCRIPTION: Konzert zum 200. Geburtstag des Dichters Jakow Polonskij Der russische Dichter Jakow Polonskij ist in Deutschland wenig bekannt\,  obwohl die Lieder zu seiner Dichtung sehr oft in klassischen Konzerten zu hören sind. Die Künstler/innen von MIR e. V. möchten dazu beitragen\,  dass im Jahr seines 200. Geburtstages der Name Jakow[..]\nhttps://kulturportal-russland.de/events/konzert-zum-200-geburtstag-des-dichters-jakow-polonskij/
URL:https://kulturportal-russland.de/events/konzert-zum-200-geburtstag-des-dichters-jakow-polonskij/
END:VEVENT
END:VCALENDAR