BEGIN:VCALENDAR
VERSION:2.0
PRODID:-//eventon.com NONSGML v1.0//EN
BEGIN:VEVENT
UID:69ecaac9d528e
DTSTAMP:20260425T135137
DTSTART:20201111
DTEND:20210221
TZID:UTC
LOCATION:Moskau\,  Berlin\,  Paris 
SUMMARY:Diversity United - 5 Künstler*innen\,  35 Länder\,  ein Kontinent im Dialog
DESCRIPTION: Diversity United &#8211; 5 Künstler*innen\,  35 Länder\,  ein Kontinent im Dialog Diversity United zeigt die Vitalität und Vielfalt der zeitgenössischen europäischen Kunstszene nach dem Fall des Eisernen Vorhangs bis heute. Die Ausstellung versammelt Malerei\,  Skulptur\,  Video und New Media\,  Fotografie\,  Installation\,  Zeichnung und Objektkunst von 85 jungen und etablierten Künstler*innen[..]\nhttps://kulturportal-russland.de/events/diversity-united-5-kuenstlerinnen-35-laender-ein-kontinent-im-dialog/
URL:https://kulturportal-russland.de/events/diversity-united-5-kuenstlerinnen-35-laender-ein-kontinent-im-dialog/
END:VEVENT
END:VCALENDAR