BEGIN:VCALENDAR
VERSION:2.0
PRODID:-//eventon.com NONSGML v1.0//EN
BEGIN:VEVENT
UID:69e8975e80958
DTSTAMP:20260422T113942
DTSTART:20200511
DTEND:20200606
TZID:UTC
LOCATION:
SUMMARY:Online-Wettbewerb und Vortrag zum Tag der Russischen Sprache und des Puschkintag Russlands
DESCRIPTION: (c) Russisches Kulturinstitut Wien Online-Wettbewerb und Vortrag zum Tag der Russischen Sprache und des Puschkintag Russlands Online-Wettbewerb für künstlerische Arbeiten „Genie und ich“ Vom 11. Mai bis 5. Juni laden wir alle Interessierten zur Teilnahme am online-Wettbewerb für künstlerische Arbeiten „Genie und ich“. Wenn Sie älter als 5 Jahre sind\, [..]\nhttps://kulturportal-russland.de/events/online-wettbewerb-und-vortrag-zum-tag-der-russischen-sprache-und-des-puschkintag-russlands/
URL:https://kulturportal-russland.de/events/online-wettbewerb-und-vortrag-zum-tag-der-russischen-sprache-und-des-puschkintag-russlands/
END:VEVENT
END:VCALENDAR